BEGIN:VCALENDAR
VERSION:2.0
PRODID:-//ChamberMaster//Event Calendar 2.0//EN
METHOD:PUBLISH
X-PUBLISHED-TTL:P3D
REFRESH-INTERVAL:P3D
CALSCALE:GREGORIAN
BEGIN:VEVENT
DTSTART:20050913T160000Z
DTEND:20050913T050000Z
X-MICROSOFT-CDO-ALLDAYEVENT:FALSE
SUMMARY:YMCA Mini Health Fair
DESCRIPTION:11 a.m. - 2 p.m. and 4 p.m. - 6 p.m. Open to members and guests.
X-ALT-DESC;FMTTYPE=text/html:11 a.m. - 2 p.m. and 4 p.m. - 6 p.m. Open to members and guests.
LOCATION:YMCA Campbell Street Jackson\, TN
UID:e.2827.1240
SEQUENCE:3
DTSTAMP:20260421T171147Z
URL:https://member.jacksontn.com/events/details/ymca-mini-health-fair-09-13-2005-1240
END:VEVENT

END:VCALENDAR
