BEGIN:VCALENDAR
VERSION:2.0
PRODID:-//ChamberMaster//Event Calendar 2.0//EN
METHOD:PUBLISH
X-PUBLISHED-TTL:P3D
REFRESH-INTERVAL:P3D
CALSCALE:GREGORIAN
BEGIN:VEVENT
DTSTART:20051022T130000Z
DTEND:20051022T050000Z
X-MICROSOFT-CDO-ALLDAYEVENT:FALSE
SUMMARY:YMCA 9th Annual Pancake 5K Run & 1 Mile Walk
DESCRIPTION:$18.00 race day fee\, $12.00 early bird registration fee. First 100 registrants guaranteed a race shirt. Trophies given for 1st-3rd place. Sponsored by AmSouth Bank.
X-ALT-DESC;FMTTYPE=text/html:$18.00 race day fee\, $12.00 early bird registration fee. First 100 registrants guaranteed a race shirt. Trophies given for 1st-3rd place. Sponsored by AmSouth Bank.
LOCATION:St. Andrew United Methodist Church 636 Wallace Road Jackson\, TN
UID:e.2827.1241
SEQUENCE:3
DTSTAMP:20260421T155817Z
URL:https://member.jacksontn.com/events/details/ymca-9th-annual-pancake-5k-run-1-mile-walk-10-22-2005-1241
END:VEVENT

END:VCALENDAR
