BEGIN:VCALENDAR
VERSION:2.0
PRODID:-//ChamberMaster//Event Calendar 2.0//EN
METHOD:PUBLISH
X-PUBLISHED-TTL:P3D
REFRESH-INTERVAL:P3D
CALSCALE:GREGORIAN
BEGIN:VEVENT
DTSTART:20050423T120000Z
DTEND:20050423T150000Z
X-MICROSOFT-CDO-ALLDAYEVENT:FALSE
SUMMARY:WRAP Pancake Breakfast
DESCRIPTION:All proceeds benefit WRAP's shelter program for women and children victims of domestic violence.
X-ALT-DESC;FMTTYPE=text/html:All proceeds benefit WRAP's shelter program for women and children victims of domestic violence.
LOCATION:VFW Post 1848 3803 Highway 45 N Jackson\, TN 38305
UID:e.2827.1025
SEQUENCE:3
DTSTAMP:20260421T200054Z
URL:https://member.jacksontn.com/events/details/wrap-pancake-breakfast-04-23-2005-1025
END:VEVENT

END:VCALENDAR
