BEGIN:VCALENDAR
VERSION:2.0
PRODID:-//ChamberMaster//Event Calendar 2.0//EN
METHOD:PUBLISH
X-PUBLISHED-TTL:P3D
REFRESH-INTERVAL:P3D
CALSCALE:GREGORIAN
BEGIN:VEVENT
DTSTART:20050820T140000Z
DTEND:20050820T050000Z
X-MICROSOFT-CDO-ALLDAYEVENT:FALSE
SUMMARY:WRAP Butterfly Release
DESCRIPTION:The third annual Butterfly Release for Women's Resource and Rape Assistance Program (WRAP) is August 20\, 9 a.m. at Muse Park. The cost to sponsor a balloon or butterfly to be released is $10 and $25 and can pre-purchased at Mam'selle\, BancorpSouth at Highland Park and Davis-Kidd Booksellers.
X-ALT-DESC;FMTTYPE=text/html:The third annual Butterfly Release for Women's Resource and Rape Assistance Program (WRAP) is August 20\, 9 a.m. at Muse Park. The cost to sponsor a balloon or butterfly to be released is $10 and $25 and can pre-purchased at Mam'selle\, BancorpSouth at Highland Park and Davis-Kidd Booksellers.
LOCATION:Muse Park
UID:e.2827.1172
SEQUENCE:3
DTSTAMP:20260421T232050Z
URL:https://member.jacksontn.com/events/details/wrap-butterfly-release-08-20-2005-1172
END:VEVENT

END:VCALENDAR
