BEGIN:VCALENDAR
VERSION:2.0
PRODID:-//ChamberMaster//Event Calendar 2.0//EN
METHOD:PUBLISH
X-PUBLISHED-TTL:P3D
REFRESH-INTERVAL:P3D
CALSCALE:GREGORIAN
BEGIN:VEVENT
DTSTART:20051012T170000Z
DTEND:20051012T050000Z
X-MICROSOFT-CDO-ALLDAYEVENT:FALSE
SUMMARY:Wonderful Women of the Church Luncheon
DESCRIPTION:Luncheon to benefit to the St. Luke's rebuilding effort.
X-ALT-DESC;FMTTYPE=text/html:Luncheon to benefit to the St. Luke's rebuilding effort.
LOCATION:St. Luke's Episcopal Church 309 E. Baltimore Street Jackson\, TN 38301
UID:e.2827.1277
SEQUENCE:3
DTSTAMP:20260421T131404Z
URL:https://member.jacksontn.com/events/details/wonderful-women-of-the-church-luncheon-10-12-2005-1277
END:VEVENT

END:VCALENDAR
