BEGIN:VCALENDAR
VERSION:2.0
PRODID:-//ChamberMaster//Event Calendar 2.0//EN
METHOD:PUBLISH
X-PUBLISHED-TTL:P3D
REFRESH-INTERVAL:P3D
CALSCALE:GREGORIAN
BEGIN:VEVENT
DTSTART:20050705T140000Z
DTEND:20050722T050000Z
X-MICROSOFT-CDO-ALLDAYEVENT:FALSE
SUMMARY:Women's Small Sided Soccer Registration
DESCRIPTION:Eight games played at North Park. Download a registration form at www.cityofjackson.net/sports. $21 city residents\, $36 non-city residents. Fee does not include shirt and socks. The city will not be buying shirts and socks for teams.
X-ALT-DESC;FMTTYPE=text/html:Eight games played at North Park. Download a registration form at www.cityofjackson.net/sports. $21 city residents\, $36 non-city residents. Fee does not include shirt and socks. The city will not be buying shirts and socks for teams.
LOCATION:Westwood Recreation Center
UID:e.2827.1146
SEQUENCE:3
DTSTAMP:20260421T171346Z
URL:https://member.jacksontn.com/events/details/women-s-small-sided-soccer-registration-07-05-2005-1146
END:VEVENT

END:VCALENDAR
