BEGIN:VCALENDAR
VERSION:2.0
PRODID:-//ChamberMaster//Event Calendar 2.0//EN
METHOD:PUBLISH
X-PUBLISHED-TTL:P3D
REFRESH-INTERVAL:P3D
CALSCALE:GREGORIAN
BEGIN:VEVENT
DTSTART:20170817T163000Z
DTEND:20170817T180000Z
X-MICROSOFT-CDO-ALLDAYEVENT:FALSE
SUMMARY:Women in Business Luncheon - 3rd Quarter 2017
DESCRIPTION:Hard Work Pays Off\n\n\n\nLaura Micetich\, aka The Iron Giantess\, spreads her message to others that hard work pays off. Hear how Laura's healthy lifestyle transformation has changed every aspect of her life. "My life has changed for the better with the simple realization that what we want and what we do are completely in our own control."
X-ALT-DESC;FMTTYPE=text/html:Hard Work Pays Off<br />\n<br />\nLaura Micetich\, aka The Iron Giantess\, spreads her message to others that hard work pays off. Hear how Laura&rsquo\;s healthy lifestyle transformation has changed every aspect of her life. &ldquo\;My life has changed for the better with the simple realization that what we want and what we do are completely in our own control.&rdquo\;
LOCATION:Jackson Country Club 31 Jackson Country Club Lane Jackson\, TN 38305
UID:e.2827.3406
SEQUENCE:3
DTSTAMP:20260424T155534Z
URL:https://member.jacksontn.com/events/details/women-in-business-luncheon-3rd-quarter-2017-3406
END:VEVENT

END:VCALENDAR
