BEGIN:VCALENDAR
VERSION:2.0
PRODID:-//ChamberMaster//Event Calendar 2.0//EN
METHOD:PUBLISH
X-PUBLISHED-TTL:P3D
REFRESH-INTERVAL:P3D
CALSCALE:GREGORIAN
BEGIN:VEVENT
DTSTART:20170510T163000Z
DTEND:20170510T180000Z
X-MICROSOFT-CDO-ALLDAYEVENT:FALSE
SUMMARY:Women in Business Luncheon - 2nd Quarter 2017
DESCRIPTION:Speaker and author Jessica Stollings will help you better understand and engage members of all generations in the workplace and leverage their collective strengths to build stronger relationships and organizations.
X-ALT-DESC;FMTTYPE=text/html:Speaker and author Jessica Stollings will help you better understand and engage members of all generations in the workplace and leverage their collective strengths to build stronger relationships and organizations.&nbsp\;&nbsp\;&nbsp\;&nbsp\;&nbsp\;&nbsp\;&nbsp\;&nbsp\;
LOCATION:Holy Family Hall - St. Mary's Catholic Church 1665 Hwy. 45 Bypass Jackson\, TN 38305
UID:e.2827.2383
SEQUENCE:3
DTSTAMP:20260424T060216Z
URL:https://member.jacksontn.com/events/details/women-in-business-luncheon-2nd-quarter-2017-2383
END:VEVENT

END:VCALENDAR
