BEGIN:VCALENDAR
VERSION:2.0
PRODID:-//ChamberMaster//Event Calendar 2.0//EN
METHOD:PUBLISH
X-PUBLISHED-TTL:P3D
REFRESH-INTERVAL:P3D
CALSCALE:GREGORIAN
BEGIN:VEVENT
DTSTART:20180510T163000Z
DTEND:20180510T180000Z
X-MICROSOFT-CDO-ALLDAYEVENT:FALSE
SUMMARY:Women in Business
DESCRIPTION:"What Does it Mean to be Salty?"\n\nInteractive presentation with Cathy Cate\, executive director of Leadership Tennessee\, discussing the meaning of community and importance of vision. Takeaways on how to become an "old salt."\n\nSponsored by Commercial Bank and Trust Co.\, Robert's Jewelers\, Nordstar Medical Skincare & Laser Center\, and West Tennessee Women's Center.
X-ALT-DESC;FMTTYPE=text/html:<p><span style="font-size:16px\;"><span style="font-family:arial\;"><span style="color:#000000\;">&quot\;What Does it Mean to be Salty?&quot\;</span></span></span></p>\n\n<p><span style="font-size:16px\;"><span style="font-family:arial\;">Interactive presentation with Cathy Cate\, executive director of Leadership Tennessee\, discussing the meaning of community and importance of vision. Takeaways on how to become an &ldquo\;old salt.&rdquo\;</span></span></p>\n\n<p><span style="font-size:16px\;"><span style="font-family:arial\;"><span style="color:#000000\;">Sponsored by Commercial Bank and Trust Co.\, Robert&#39\;s Jewelers\,&nbsp\;Nordstar&nbsp\;Medical Skincare &amp\; Laser Center\, and West Tennessee Women&#39\;s Center.</span></span></span></p>\n
LOCATION:Jackson Country Club 31 Jackson Country Club Ln. Jackson\, TN 38305
UID:e.2827.6678
SEQUENCE:3
DTSTAMP:20260423T151840Z
URL:https://member.jacksontn.com/events/details/women-in-business-6678
END:VEVENT

END:VCALENDAR
