BEGIN:VCALENDAR
VERSION:2.0
PRODID:-//ChamberMaster//Event Calendar 2.0//EN
METHOD:PUBLISH
X-PUBLISHED-TTL:P3D
REFRESH-INTERVAL:P3D
CALSCALE:GREGORIAN
BEGIN:VEVENT
DTSTART:20180215T173000Z
DTEND:20180215T190000Z
X-MICROSOFT-CDO-ALLDAYEVENT:FALSE
SUMMARY:Women in Business
DESCRIPTION:Mentoring: Shaping the Future\n\nOne woman's story of how mentors changed the trajectory of her career.\n\n\n\nSponsored by Commercial Bank and Trust Co.\, Robert's Jewelers\, Nordstar Medical Skincare & Laser Center\, West Tennessee Women's Center
X-ALT-DESC;FMTTYPE=text/html:Mentoring: Shaping the Future<br />\nOne woman&#39\;s story of how mentors changed the trajectory of her career.<br />\n<br />\nSponsored by Commercial Bank and Trust Co.\, Robert&#39\;s Jewelers\,&nbsp\;Nordstar&nbsp\;Medical Skincare &amp\; Laser Center\, West Tennessee Women&#39\;s Center
LOCATION:Carl Grant Events Center\, Union University 1050 Union University Dr. Jackson\, TN 38305
UID:e.2827.5656
SEQUENCE:3
DTSTAMP:20260423T185532Z
URL:https://member.jacksontn.com/events/details/women-in-business-5656
END:VEVENT

END:VCALENDAR
