BEGIN:VCALENDAR
VERSION:2.0
PRODID:-//ChamberMaster//Event Calendar 2.0//EN
METHOD:PUBLISH
X-PUBLISHED-TTL:P3D
REFRESH-INTERVAL:P3D
CALSCALE:GREGORIAN
BEGIN:VEVENT
DTSTART:20190926T163000Z
DTEND:20190926T180000Z
X-MICROSOFT-CDO-ALLDAYEVENT:FALSE
SUMMARY:Women in Business
DESCRIPTION:The Bourbon Renaissance in Small Town USA\n\n\n\nKim Huston is president of the Nelson County Economic Development Agency in Bardstown\, Kentucky a town proclaimed as the Bourbon Capital of the World. In her 18 years in this position\, she has recruited new distilleries to locate in her small town and has happily watched as the industry changed from male domination to one with many powerful women making bourbon history. From working to recruit the  Russian born company Stoli Vodka to locate its  $250 million distillery complex  in Bardstown\, to convincing the St. Louis Missouri owners of Rebel Yell that Bardstown had to be the site of their new state of the art distillery\, she has  experienced first-hand the new renaissance in this once again popular industry\, now with many females in leading roles.\n\n\n\nSponsored by Commercial Bank and Trust Company\, Robert's Jewelers\, Nordstar Medical Skincare & Laser Center\, West Tennessee Women's Center
X-ALT-DESC;FMTTYPE=text/html:<p><span style="font-size:16px\;">The Bourbon Renaissance in Small Town USA</span><br />\n<br />\n<strong style="font-size: 16px\;"><a href="https://www.bardstownmainstreet.com/board-of-directors/kim-huston/"><span style="color: rgb(121\, 153\, 0)\;">Kim Huston</span></a></strong><span style="font-size:16px\;"><span style="font-family:arial\;"><span style="caret-color: rgb(0\, 0\, 0)\; color: rgb(0\, 0\, 0)\; text-size-adjust: auto\;"> is president of the </span><span style="caret-color: rgb(0\, 0\, 0)\; text-size-adjust: auto\;"><a href="http://new.nceda.net/"><span style="color:#799900\;">Nelson County Economic Development Agency</span></a></span><span style="caret-color: rgb(0\, 0\, 0)\; color: rgb(0\, 0\, 0)\; text-size-adjust: auto\;"> in Bardstown\, Kentucky a town proclaimed as the Bourbon Capital of the World. In her 18 years in this position\, she has recruited new distilleries to locate in her small town and has happily watched as the industry changed from male domination to one with many powerful women making bourbon history. From working to recruit the &nbsp\;Russian born company Stoli Vodka to locate its &nbsp\;$250 million distillery complex &nbsp\;in Bardstown\, to convincing the St. Louis Missouri owners of Rebel Yell that Bardstown had to be the site of their new state of the art distillery\, she has &nbsp\;experienced first-hand the new renaissance in this once again popular industry\, now with many females in leading roles.</span></span></span><br />\n<br />\n<span style="font-size:16px\;">Sponsored by <strong><a href="https://www.cbtcnet.com/"><span style="color:#799900\;">Commercial Bank and Trust Company</span></a></strong>\, <strong><a href="http://www.robertsjewelersinc.com"><span style="color:#799900\;">Robert&#39\;s Jewelers</span></a></strong>\, <strong><a href="https://www.facebook.com/Nordstarmed/"><span style="color:#799900\;">Nordstar Medical Skincare &amp\; Laser Center</span></a></strong>\, <strong><a href="https://secure.wth.org/womens-center"><span style="color:#799900\;">West Tennessee Women&#39\;s Center</span></a></strong></span></p>\n
LOCATION:Carl Grant Events Center Union University 1050 Union University Dr. Jackson\, TN 38305
UID:e.2827.6744
SEQUENCE:3
DTSTAMP:20260422T091903Z
URL:https://member.jacksontn.com/events/details/women-in-business-09-26-2019-6744
END:VEVENT

END:VCALENDAR
