BEGIN:VCALENDAR
VERSION:2.0
PRODID:-//ChamberMaster//Event Calendar 2.0//EN
METHOD:PUBLISH
X-PUBLISHED-TTL:P3D
REFRESH-INTERVAL:P3D
CALSCALE:GREGORIAN
BEGIN:VEVENT
DTSTART:20051013T140000Z
DTEND:20051013T050000Z
X-MICROSOFT-CDO-ALLDAYEVENT:FALSE
SUMMARY:''Wizard of Oz''
DESCRIPTION:$6/$7 matinee at the door. Follow the yellow brick road on a musical adventure.
X-ALT-DESC;FMTTYPE=text/html:$6/$7 matinee at the door. Follow the yellow brick road on a musical adventure.
LOCATION:Carl Perkins Civic Center 400 S. Highland Ave. Jackson\, TN
UID:e.2827.1253
SEQUENCE:3
DTSTAMP:20260421T113554Z
URL:https://member.jacksontn.com/events/details/wizard-of-oz-10-13-2005-1253
END:VEVENT

END:VCALENDAR
