BEGIN:VCALENDAR
VERSION:2.0
PRODID:-//ChamberMaster//Event Calendar 2.0//EN
METHOD:PUBLISH
X-PUBLISHED-TTL:P3D
REFRESH-INTERVAL:P3D
CALSCALE:GREGORIAN
BEGIN:VEVENT
DTSTART:20050707T133000Z
DTEND:20050708T040000Z
X-MICROSOFT-CDO-ALLDAYEVENT:FALSE
SUMMARY:Winning the Marketing War
DESCRIPTION:All businesses want more sales and good marketing is the key!  The challenge is how you compete in today's global marketplace without spending thousands of dollars on hopeful strategies with dismal results.  Let Introspect Associates lead your business through an interactive seminar and walk away empowered to make better marketing choices that save you time and money\, equipped with the tools you'll need to get started!\n\nParticipants will:\n	LEARN marketing basics from an experienced marketing professional\n	MEET your peers with similar marketing challenges\n	EXPLORE new ways to tackle familiar marketing problems\n	RECEIVE the tools to accomplish many of the suggested strategies\n\nEach participant will receive an Avery Sample Pack and an Avery Just Click and Create Software CD - a $100 value!\n\nOne lucky participant will receive an Avery Quick Peel Automatic Label Peeler and an Avery Personal Label Printer (a combined value of $438!)  Paid registration automatically enters you into the drawing.\n\nDon't miss this opportunity to learn effective marketing for your business.  Space is limited so sign up today!
X-ALT-DESC;FMTTYPE=text/html:All businesses want more sales and good marketing is the key!  The challenge is how you compete in today's global marketplace without spending thousands of dollars on hopeful strategies with dismal results.  Let Introspect Associates lead your business through an interactive seminar and walk away empowered to make better marketing choices that save you time and money\, equipped with the tools you'll need to get started!\n\nParticipants will:\n	LEARN marketing basics from an experienced marketing professional\n	MEET your peers with similar marketing challenges\n	EXPLORE new ways to tackle familiar marketing problems\n	RECEIVE the tools to accomplish many of the suggested strategies\n\nEach participant will receive an Avery Sample Pack and an Avery Just Click and Create Software CD - a $100 value!\n\nOne lucky participant will receive an Avery Quick Peel Automatic Label Peeler and an Avery Personal Label Printer (a combined value of $438!)  Paid registration automatically enters you into the drawing.\n\nDon't miss this opportunity to learn effective marketing for your business.  Space is limited so sign up today!\n
LOCATION:Chamber of Commerce 197 Auditorium Street Jackson\, TN 38301
UID:e.2827.1553
SEQUENCE:3
DTSTAMP:20260421T170658Z
URL:https://member.jacksontn.com/events/details/winning-the-marketing-war-07-07-2005-1553
END:VEVENT

END:VCALENDAR
