BEGIN:VCALENDAR
VERSION:2.0
PRODID:-//ChamberMaster//Event Calendar 2.0//EN
METHOD:PUBLISH
X-PUBLISHED-TTL:P3D
REFRESH-INTERVAL:P3D
CALSCALE:GREGORIAN
BEGIN:VEVENT
DTSTART:20050501T000000Z
DTEND:20050501T040000Z
X-MICROSOFT-CDO-ALLDAYEVENT:FALSE
SUMMARY:Whine & Dine
DESCRIPTION:The Jackson-Madison County Humane Society presents the 7th Annual Whine & Dine at Bumpus Harley Davidson. The event will feature wine tasting compliments of The Barrel Wine & Spirits\, coffee bar compliments of Seasons Coffee and Cafe and heavy hors d'oeuvres provided by Creative Catering. The event also will feature a silent auction\, musical entertainment and a pet parade. Tickets are $35 in advance and $45 at the door the day of the event. Tickets may be purchased at Davis-Kidd Booksellers\, The Potter's Garden\, Parkway Animal Hospital\, Mam'selle\, Sisters\, Blue Hawaiian Pools\, and le diva's. Must be 21 years old to attend. To donate auction items or for sponsorship or ticket information\, call Lynn at 731.664.2723.
X-ALT-DESC;FMTTYPE=text/html:The Jackson-Madison County Humane Society presents the 7th Annual Whine & Dine at Bumpus Harley Davidson. The event will feature wine tasting compliments of The Barrel Wine & Spirits\, coffee bar compliments of Seasons Coffee and Cafe and heavy hors d'oeuvres provided by Creative Catering. The event also will feature a silent auction\, musical entertainment and a pet parade. Tickets are $35 in advance and $45 at the door the day of the event. Tickets may be purchased at Davis-Kidd Booksellers\, The Potter's Garden\, Parkway Animal Hospital\, Mam'selle\, Sisters\, Blue Hawaiian Pools\, and le diva's. Must be 21 years old to attend. To donate auction items or for sponsorship or ticket information\, call Lynn at 731.664.2723.
LOCATION:Bumpus Harley Davidson 326 Carriage House Drive Jackson\, TN 38305
UID:e.2827.992
SEQUENCE:3
DTSTAMP:20260421T200053Z
URL:https://member.jacksontn.com/events/details/whine-dine-04-30-2005-992
END:VEVENT

END:VCALENDAR
