BEGIN:VCALENDAR
VERSION:2.0
PRODID:-//ChamberMaster//Event Calendar 2.0//EN
METHOD:PUBLISH
X-PUBLISHED-TTL:P3D
REFRESH-INTERVAL:P3D
CALSCALE:GREGORIAN
BEGIN:VEVENT
DTSTART:20010531T050000Z
DTEND:20010531T050000Z
X-MICROSOFT-CDO-ALLDAYEVENT:FALSE
SUMMARY:West Tennessee Industrial Dinner
DESCRIPTION:West Tennessee Industrial Dinner
X-ALT-DESC;FMTTYPE=text/html:West Tennessee Industrial Dinner
LOCATION:Four Points Sheraton
UID:e.2827.1921
SEQUENCE:3
DTSTAMP:20260424T232510Z
URL:https://member.jacksontn.com/events/details/west-tennessee-industrial-dinner-05-31-2001-1921
END:VEVENT

END:VCALENDAR
