BEGIN:VCALENDAR
VERSION:2.0
PRODID:-//ChamberMaster//Event Calendar 2.0//EN
METHOD:PUBLISH
X-PUBLISHED-TTL:P3D
REFRESH-INTERVAL:P3D
CALSCALE:GREGORIAN
BEGIN:VEVENT
DTSTART;VALUE=DATE:20050403
DTEND;VALUE=DATE:20050417
TRANSP:TRANSPARENT
X-MICROSOFT-CDO-ALLDAYEVENT:TRUE
SUMMARY:West Tennessee Designer's Showhouse
DESCRIPTION:Mon-Thurs.\, 10a-6p\, Sat & Sun 1p-5p. Lambuth University's Dept of Family and Consumer Science and Visual Art presents the Tenth Showhouse. $10 donation. Presented every 5 years\, launches designer rooms\, arts\, crafts shop. Profits go to St. Jude's Children's Hospital.
X-ALT-DESC;FMTTYPE=text/html:Mon-Thurs.\, 10a-6p\, Sat & Sun 1p-5p. Lambuth University's Dept of Family and Consumer Science and Visual Art presents the Tenth Showhouse. $10 donation. Presented every 5 years\, launches designer rooms\, arts\, crafts shop. Profits go to St. Jude's Children's Hospital.
LOCATION:The Painted Lady 415 Lafayette Street Jackson\, TN 38302
UID:e.2827.942
SEQUENCE:3
DTSTAMP:20260421T200354Z
URL:https://member.jacksontn.com/events/details/west-tennessee-designer-s-showhouse-04-03-2005-942
END:VEVENT

END:VCALENDAR
