BEGIN:VCALENDAR
VERSION:2.0
PRODID:-//ChamberMaster//Event Calendar 2.0//EN
METHOD:PUBLISH
X-PUBLISHED-TTL:P3D
REFRESH-INTERVAL:P3D
CALSCALE:GREGORIAN
BEGIN:VEVENT
DTSTART:20050828T000000Z
DTEND:20050827T050000Z
X-MICROSOFT-CDO-ALLDAYEVENT:FALSE
SUMMARY:Viva Las Vegas - St. Jude benefit
DESCRIPTION:Spirits\, dinner\, dancing\, silent auction. Featuring the Paula Bridges Band. $100 per person\, $175 per couple. For tickets\, send checks and contact info to 119 Fairmont Ave.\, Jackson\, or call 800.238.6030 to pay by credit card during St. Jude business hours\, M-F 8 a.m. -4:30 pm.
X-ALT-DESC;FMTTYPE=text/html:Spirits\, dinner\, dancing\, silent auction. Featuring the Paula Bridges Band. $100 per person\, $175 per couple. For tickets\, send checks and contact info to 119 Fairmont Ave.\, Jackson\, or call 800.238.6030 to pay by credit card during St. Jude business hours\, M-F 8 a.m. -4:30 pm.
LOCATION:Premier Place N. Highland Jackson\, TN
UID:e.2827.1188
SEQUENCE:3
DTSTAMP:20260421T185112Z
URL:https://member.jacksontn.com/events/details/viva-las-vegas-st-jude-benefit-08-27-2005-1188
END:VEVENT

END:VCALENDAR
