BEGIN:VCALENDAR
VERSION:2.0
PRODID:-//ChamberMaster//Event Calendar 2.0//EN
METHOD:PUBLISH
X-PUBLISHED-TTL:P3D
REFRESH-INTERVAL:P3D
CALSCALE:GREGORIAN
BEGIN:VEVENT
DTSTART;VALUE=DATE:20061111
DTEND;VALUE=DATE:20061112
TRANSP:TRANSPARENT
X-MICROSOFT-CDO-ALLDAYEVENT:TRUE
SUMMARY:Veteran's Day Celebration
DESCRIPTION:Held in partnership with Keep Jackson Beautiful.
X-ALT-DESC;FMTTYPE=text/html:Held in partnership with Keep Jackson Beautiful.
LOCATION:Liberty Garden 24 Channing Way Jackson\, TN 38305
UID:e.2827.231
SEQUENCE:3
DTSTAMP:20260421T083426Z
URL:https://member.jacksontn.com/events/details/veteran-s-day-celebration-11-11-2006-231
END:VEVENT

END:VCALENDAR
