BEGIN:VCALENDAR
VERSION:2.0
PRODID:-//ChamberMaster//Event Calendar 2.0//EN
METHOD:PUBLISH
X-PUBLISHED-TTL:P3D
REFRESH-INTERVAL:P3D
CALSCALE:GREGORIAN
BEGIN:VEVENT
DTSTART;VALUE=DATE:20050301
DTEND;VALUE=DATE:20050401
TRANSP:TRANSPARENT
X-MICROSOFT-CDO-ALLDAYEVENT:TRUE
SUMMARY:Union University Art Gallery presents ''Bread Upon the Water''
DESCRIPTION:Mon - Fri\, 9-5. Sat & Sun 1-4.  Free admission. Christians in the Visual Arts (CIVA) Juried Print and Drawing Exhibition.
X-ALT-DESC;FMTTYPE=text/html:<P>Mon - Fri\, 9-5. Sat &amp\; Sun 1-4.&nbsp\; </P><P>Free admission. </P><P>Christians in the Visual Arts (CIVA) Juried Print and Drawing Exhibition.&nbsp\;</P>
LOCATION:Union University Art Gallery 1050 Union University Dr. Jackson\, TN 38305
UID:e.2827.874
SEQUENCE:3
DTSTAMP:20260421T213938Z
URL:https://member.jacksontn.com/events/details/union-university-art-gallery-presents-bread-upon-the-water-03-01-2005-874
END:VEVENT

END:VCALENDAR
