BEGIN:VCALENDAR
VERSION:2.0
PRODID:-//ChamberMaster//Event Calendar 2.0//EN
METHOD:PUBLISH
X-PUBLISHED-TTL:P3D
REFRESH-INTERVAL:P3D
CALSCALE:GREGORIAN
BEGIN:VEVENT
DTSTART:20050927T234500Z
DTEND:20050927T050000Z
X-MICROSOFT-CDO-ALLDAYEVENT:FALSE
SUMMARY:Union University 9th Annual Scholarship Banquet
DESCRIPTION:
X-ALT-DESC;FMTTYPE=text/html:
LOCATION:Carl Perkins Civic Center S. Highland Avenue Jackson\, TN
UID:e.2827.1145
SEQUENCE:3
DTSTAMP:20260421T155824Z
URL:https://member.jacksontn.com/events/details/union-university-9th-annual-scholarship-banquet-09-27-2005-1145
END:VEVENT

END:VCALENDAR
