BEGIN:VCALENDAR
VERSION:2.0
PRODID:-//ChamberMaster//Event Calendar 2.0//EN
METHOD:PUBLISH
X-PUBLISHED-TTL:P3D
REFRESH-INTERVAL:P3D
CALSCALE:GREGORIAN
BEGIN:VEVENT
DTSTART:20011115T060000Z
DTEND:20011115T060000Z
X-MICROSOFT-CDO-ALLDAYEVENT:FALSE
SUMMARY:Union Avoidance Workshop
DESCRIPTION:Union Avoidance Workshop
X-ALT-DESC;FMTTYPE=text/html:Union Avoidance Workshop
LOCATION:Premier Place
UID:e.2827.1932
SEQUENCE:3
DTSTAMP:20260424T165550Z
URL:https://member.jacksontn.com/events/details/union-avoidance-workshop-11-15-2001-1932
END:VEVENT

END:VCALENDAR
