BEGIN:VCALENDAR
VERSION:2.0
PRODID:-//ChamberMaster//Event Calendar 2.0//EN
METHOD:PUBLISH
X-PUBLISHED-TTL:P3D
REFRESH-INTERVAL:P3D
CALSCALE:GREGORIAN
BEGIN:VEVENT
DTSTART:20020528T050000Z
DTEND:20020528T050000Z
X-MICROSOFT-CDO-ALLDAYEVENT:FALSE
SUMMARY:Union Avoidance Workshop
DESCRIPTION:Union Avoidance Workshop
X-ALT-DESC;FMTTYPE=text/html:Union Avoidance Workshop
LOCATION:Premier Place
UID:e.2827.1948
SEQUENCE:3
DTSTAMP:20260424T044630Z
URL:https://member.jacksontn.com/events/details/union-avoidance-workshop-05-28-2002-1948
END:VEVENT

END:VCALENDAR
