BEGIN:VCALENDAR
VERSION:2.0
PRODID:-//ChamberMaster//Event Calendar 2.0//EN
METHOD:PUBLISH
X-PUBLISHED-TTL:P3D
REFRESH-INTERVAL:P3D
CALSCALE:GREGORIAN
BEGIN:VEVENT
DTSTART:20050423T160000Z
DTEND:20050423T183000Z
X-MICROSOFT-CDO-ALLDAYEVENT:FALSE
SUMMARY:The Wizard of Oz
DESCRIPTION:Remember spending Saturdays at the movies? Enjoy that feeling again at the library. Popcorn and drinks will be available.
X-ALT-DESC;FMTTYPE=text/html:Remember spending Saturdays at the movies? Enjoy that feeling again at the library. Popcorn and drinks will be available.
LOCATION:Jackson Madison County Library 433 E. Lafayette Jackson\, TN 38301
UID:e.2827.936
SEQUENCE:3
DTSTAMP:20260421T200228Z
URL:https://member.jacksontn.com/events/details/the-wizard-of-oz-04-23-2005-936
END:VEVENT

END:VCALENDAR
