BEGIN:VCALENDAR
VERSION:2.0
PRODID:-//ChamberMaster//Event Calendar 2.0//EN
METHOD:PUBLISH
X-PUBLISHED-TTL:P3D
REFRESH-INTERVAL:P3D
CALSCALE:GREGORIAN
BEGIN:VEVENT
DTSTART:20050419T230000Z
DTEND:20050419T050000Z
X-MICROSOFT-CDO-ALLDAYEVENT:FALSE
SUMMARY:''The Wizard of Oz''
DESCRIPTION:Enjoy this family favorite in the Library Program Center's surround sound theatre.
X-ALT-DESC;FMTTYPE=text/html:Enjoy this family favorite in the Library Program Center's surround sound theatre.
LOCATION:Jackson Madison County Library 433 E. Lafayette Jackson\, TN 38301
UID:e.2827.923
SEQUENCE:3
DTSTAMP:20260422T034325Z
URL:https://member.jacksontn.com/events/details/the-wizard-of-oz-04-19-2005-923
END:VEVENT

END:VCALENDAR
