BEGIN:VCALENDAR
VERSION:2.0
PRODID:-//ChamberMaster//Event Calendar 2.0//EN
METHOD:PUBLISH
X-PUBLISHED-TTL:P3D
REFRESH-INTERVAL:P3D
CALSCALE:GREGORIAN
BEGIN:VEVENT
DTSTART;VALUE=DATE:20050317
DTEND;VALUE=DATE:20050319
TRANSP:TRANSPARENT
X-MICROSOFT-CDO-ALLDAYEVENT:TRUE
SUMMARY:''The Secret Garden''
DESCRIPTION:The tender story of a young girl (non-musical version). Thurs.\, 9 a.m. and 7:30 p.m.\, Fri.\, 7:30 p.m. Matinee $4\, Evening $5 in advance\, $6 at the door.
X-ALT-DESC;FMTTYPE=text/html:The tender story of a young girl (non-musical version). Thurs.\, 9 a.m. and 7:30 p.m.\, Fri.\, 7:30 p.m. Matinee $4\, Evening $5 in advance\, $6 at the door.
LOCATION:The Ned R. McWherter West TN Cultural Arts Center 314 E. Main Jackson\, TN 38301
UID:e.2827.887
SEQUENCE:3
DTSTAMP:20260421T213821Z
URL:https://member.jacksontn.com/events/details/the-secret-garden-03-17-2005-887
END:VEVENT

END:VCALENDAR
