BEGIN:VCALENDAR
VERSION:2.0
PRODID:-//ChamberMaster//Event Calendar 2.0//EN
METHOD:PUBLISH
X-PUBLISHED-TTL:P3D
REFRESH-INTERVAL:P3D
CALSCALE:GREGORIAN
BEGIN:VEVENT
DTSTART;VALUE=DATE:20050527
DTEND;VALUE=DATE:20050531
TRANSP:TRANSPARENT
X-MICROSOFT-CDO-ALLDAYEVENT:TRUE
SUMMARY:The Million Dollar Hole-in-One Shootout
DESCRIPTION:Lots of fun\, lots of prizes!
X-ALT-DESC;FMTTYPE=text/html:Lots of fun\, lots of prizes!
LOCATION:Highland Green Golf Course
UID:e.2827.939
SEQUENCE:3
DTSTAMP:20260421T182403Z
URL:https://member.jacksontn.com/events/details/the-million-dollar-hole-in-one-shootout-05-27-2005-939
END:VEVENT

END:VCALENDAR
