BEGIN:VCALENDAR
VERSION:2.0
PRODID:-//ChamberMaster//Event Calendar 2.0//EN
METHOD:PUBLISH
X-PUBLISHED-TTL:P3D
REFRESH-INTERVAL:P3D
CALSCALE:GREGORIAN
BEGIN:VEVENT
DTSTART:20050407T233000Z
DTEND:20050428T050000Z
X-MICROSOFT-CDO-ALLDAYEVENT:FALSE
SUMMARY:The Jackson Area Plectral Society ''JAM''
DESCRIPTION:Every Thursday in April. Old time music. Free admission.
X-ALT-DESC;FMTTYPE=text/html:Every Thursday in April. Old time music. Free admission.
LOCATION:The Old Country Store 30 Casey Jones Lane Jackson\, TN 38305
UID:e.2827.945
SEQUENCE:3
DTSTAMP:20260421T200353Z
URL:https://member.jacksontn.com/events/details/the-jackson-area-plectral-society-jam-04-07-2005-945
END:VEVENT

END:VCALENDAR
