BEGIN:VCALENDAR
VERSION:2.0
PRODID:-//ChamberMaster//Event Calendar 2.0//EN
METHOD:PUBLISH
X-PUBLISHED-TTL:P3D
REFRESH-INTERVAL:P3D
CALSCALE:GREGORIAN
BEGIN:VEVENT
DTSTART:20050622T133000Z
DTEND:20050622T160000Z
X-MICROSOFT-CDO-ALLDAYEVENT:FALSE
SUMMARY:The How-To's of Marketing
DESCRIPTION:Free session sponsored by The Chamber and Jackson Energy Authority. If you are the owner or primary decision maker of a minority or woman-owned business\, join us for this free seminar and learn the marketing basics to help sell yourself.
X-ALT-DESC;FMTTYPE=text/html:Free session sponsored by The Chamber and Jackson Energy Authority. If you are the owner or primary decision maker of a minority or woman-owned business\, join us for this free seminar and learn the marketing basics to help sell yourself.
LOCATION:The Chamber 197 Auditorium Street Jackson\, TN
UID:e.2827.1101
SEQUENCE:3
DTSTAMP:20260421T185046Z
URL:https://member.jacksontn.com/events/details/the-how-to-s-of-marketing-06-22-2005-1101
END:VEVENT

END:VCALENDAR
