BEGIN:VCALENDAR
VERSION:2.0
PRODID:-//ChamberMaster//Event Calendar 2.0//EN
METHOD:PUBLISH
X-PUBLISHED-TTL:P3D
REFRESH-INTERVAL:P3D
CALSCALE:GREGORIAN
BEGIN:VEVENT
DTSTART:20051029T160000Z
DTEND:20051029T233000Z
X-MICROSOFT-CDO-ALLDAYEVENT:FALSE
SUMMARY:The Great Pumpkin Festival
DESCRIPTION:Featuring artisans displaying and demonstrating crafts\, pumpkin pie contest\, pumpkin pie eating contest\, pumkin carving contest\, costume contests for children and adults. Live entertainment all day. Pot luck lunch brought by the community at 11:30 a.m. German themed dinner prepared by "Bakerboys" of Jackson\, 4:30-5:00 for $7. Also featuring many games and dunking booth. The evening will end with the lighting of the pumpkins\, a one hour talent show and a story.
X-ALT-DESC;FMTTYPE=text/html:Featuring artisans displaying and demonstrating crafts\, pumpkin pie contest\, pumpkin pie eating contest\, pumkin carving contest\, costume contests for children and adults. Live entertainment all day. Pot luck lunch brought by the community at 11:30 a.m. German themed dinner prepared by "Bakerboys" of Jackson\, 4:30-5:00 for $7. Also featuring many games and dunking booth. The evening will end with the lighting of the pumpkins\, a one hour talent show and a story.
LOCATION:Front grounds of Lambuth University
UID:e.2827.1346
SEQUENCE:3
DTSTAMP:20260421T131230Z
URL:https://member.jacksontn.com/events/details/the-great-pumpkin-festival-10-29-2005-1346
END:VEVENT

END:VCALENDAR
