BEGIN:VCALENDAR
VERSION:2.0
PRODID:-//ChamberMaster//Event Calendar 2.0//EN
METHOD:PUBLISH
X-PUBLISHED-TTL:P3D
REFRESH-INTERVAL:P3D
CALSCALE:GREGORIAN
BEGIN:VEVENT
DTSTART:20050518T163000Z
DTEND:20050518T180000Z
X-MICROSOFT-CDO-ALLDAYEVENT:FALSE
SUMMARY:The Basics of Workers' Compensation
DESCRIPTION:Seminar is limited to 60. Speaker is Phyllis Smith\, Program Coordinator\, TN Dept of Labor. RSVP no later than May 6. Lunch is provided.
X-ALT-DESC;FMTTYPE=text/html:Seminar is limited to 60. Speaker is Phyllis Smith\, Program Coordinator\, TN Dept of Labor. RSVP no later than May 6. Lunch is provided.
LOCATION:Regional Hospital of Jackson 367 Hospital Blvd Jackson\, TN 38305
UID:e.2827.1006
SEQUENCE:3
DTSTAMP:20260421T182208Z
URL:https://member.jacksontn.com/events/details/the-basics-of-workers-compensation-05-18-2005-1006
END:VEVENT

END:VCALENDAR
