BEGIN:VCALENDAR
VERSION:2.0
PRODID:-//ChamberMaster//Event Calendar 2.0//EN
METHOD:PUBLISH
X-PUBLISHED-TTL:P3D
REFRESH-INTERVAL:P3D
CALSCALE:GREGORIAN
BEGIN:VEVENT
DTSTART:20050420T230000Z
DTEND:20050421T010000Z
X-MICROSOFT-CDO-ALLDAYEVENT:FALSE
SUMMARY:Tennessee Titans Caravan
DESCRIPTION:The Tennessee Titans Caravan is sponsored by EPlus Broadband and WYNU 92.3 FM\, the festivities start at 5 PM with a live radio remote and a live Sports Barristers show on EPlus TV Channel 6. Bring the entire family to meet Titans players\, announcers\, cheerleaders\, and Titans team officials. Get autographs\, enjoy children's activities\, and shop for your favorite Titans memorabilia. Hot dogs\, chips and drinks will be served for $2.00 with all proceeds donated to the Make-a-Wish Foundation. Admission is free to the public.
X-ALT-DESC;FMTTYPE=text/html:The Tennessee Titans Caravan is sponsored by EPlus Broadband and WYNU 92.3 FM\, the festivities start at 5 PM with a live radio remote and a live Sports Barristers show on EPlus TV Channel 6. Bring the entire family to meet Titans players\, announcers\, cheerleaders\, and Titans team officials. Get autographs\, enjoy children's activities\, and shop for your favorite Titans memorabilia. Hot dogs\, chips and drinks will be served for $2.00 with all proceeds donated to the Make-a-Wish Foundation. Admission is free to the public.
LOCATION:City Parking Lot North Highland & College Street\, adjacent to JEA Jackson\, TN
UID:e.2827.995
SEQUENCE:3
DTSTAMP:20260421T200229Z
URL:https://member.jacksontn.com/events/details/tennessee-titans-caravan-04-20-2005-995
END:VEVENT

END:VCALENDAR
