BEGIN:VCALENDAR
VERSION:2.0
PRODID:-//ChamberMaster//Event Calendar 2.0//EN
METHOD:PUBLISH
X-PUBLISHED-TTL:P3D
REFRESH-INTERVAL:P3D
CALSCALE:GREGORIAN
BEGIN:VEVENT
DTSTART:20051001T140000Z
DTEND:20051101T020000Z
X-MICROSOFT-CDO-ALLDAYEVENT:FALSE
SUMMARY:TACA Art Display
DESCRIPTION:TACA- West Chapter\, TN Association of Craft Artists present "Artists Display". Free admission. Displaying woodworking\, stained glass\, quilts\, weaving\, hats\, metal work and jewelry. Mon.\, - Thurs.\, 9 a.m. - 8 p.m.\, Fri. - Sat.\, 9 a.m. - 5 p.m.
X-ALT-DESC;FMTTYPE=text/html:TACA- West Chapter\, TN Association of Craft Artists present "Artists Display". Free admission. Displaying woodworking\, stained glass\, quilts\, weaving\, hats\, metal work and jewelry. Mon.\, - Thurs.\, 9 a.m. - 8 p.m.\, Fri. - Sat.\, 9 a.m. - 5 p.m.
LOCATION:Jackson Madison County Library 433 E. Lafayette Jackson\, TN 38301
UID:e.2827.1246
SEQUENCE:3
DTSTAMP:20260421T125306Z
URL:https://member.jacksontn.com/events/details/taca-art-display-10-01-2005-1246
END:VEVENT

END:VCALENDAR
