BEGIN:VCALENDAR
VERSION:2.0
PRODID:-//ChamberMaster//Event Calendar 2.0//EN
METHOD:PUBLISH
X-PUBLISHED-TTL:P3D
REFRESH-INTERVAL:P3D
CALSCALE:GREGORIAN
BEGIN:VEVENT
DTSTART:20050416T180000Z
DTEND:20050416T200000Z
X-MICROSOFT-CDO-ALLDAYEVENT:FALSE
SUMMARY:Summer Preview Fashion Show
DESCRIPTION:Tickets $10. All proceeds benefit the American Cancer Society. Featuring fashions from Bella\, the Boutique\, Cambridge Ltd.\, le diva's\, Signature's and Steinmart.
X-ALT-DESC;FMTTYPE=text/html:Tickets $10. All proceeds benefit the American Cancer Society. Featuring fashions from Bella\, the Boutique\, Cambridge Ltd.\, le diva's\, Signature's and Steinmart.
LOCATION:Elements Salon 100 Vann Drive Jackson\, TN
UID:e.2827.1008
SEQUENCE:3
DTSTAMP:20260421T200337Z
URL:https://member.jacksontn.com/events/details/summer-preview-fashion-show-04-16-2005-1008
END:VEVENT

END:VCALENDAR
