BEGIN:VCALENDAR
VERSION:2.0
PRODID:-//ChamberMaster//Event Calendar 2.0//EN
METHOD:PUBLISH
X-PUBLISHED-TTL:P3D
REFRESH-INTERVAL:P3D
CALSCALE:GREGORIAN
BEGIN:VEVENT
DTSTART:20051006T200000Z
DTEND:20051006T050000Z
X-MICROSOFT-CDO-ALLDAYEVENT:FALSE
SUMMARY:''Storytelling''
DESCRIPTION:Free admission. Appreciation of literature through the art of storytelling.
X-ALT-DESC;FMTTYPE=text/html:Free admission. Appreciation of literature through the art of storytelling.
LOCATION:Jackson Madison County Library 433 E. Lafayette Jackson\, TN 38301
UID:e.2827.1250
SEQUENCE:3
DTSTAMP:20260421T142746Z
URL:https://member.jacksontn.com/events/details/storytelling-10-06-2005-1250
END:VEVENT

END:VCALENDAR
