BEGIN:VCALENDAR
VERSION:2.0
PRODID:-//ChamberMaster//Event Calendar 2.0//EN
METHOD:PUBLISH
X-PUBLISHED-TTL:P3D
REFRESH-INTERVAL:P3D
CALSCALE:GREGORIAN
BEGIN:VEVENT
DTSTART:20050509T230000Z
DTEND:20050510T010000Z
X-MICROSOFT-CDO-ALLDAYEVENT:FALSE
SUMMARY:Steak 'N Burger Dinner
DESCRIPTION:Mike Keith "The Voice of the Titans" will be the guest speaker for the annual steak 'n burger dinner to benefit the Boys & Girls Club.
X-ALT-DESC;FMTTYPE=text/html:Mike Keith "The Voice of the Titans" will be the guest speaker for the annual steak 'n burger dinner to benefit the Boys & Girls Club.
LOCATION:Carl Perkins Civic Center 197 Auditorium Street Jackson\, TN 38302
UID:e.2827.941
SEQUENCE:3
DTSTAMP:20260421T182115Z
URL:https://member.jacksontn.com/events/details/steak-n-burger-dinner-05-09-2005-941
END:VEVENT

END:VCALENDAR
