BEGIN:VCALENDAR
VERSION:2.0
PRODID:-//ChamberMaster//Event Calendar 2.0//EN
METHOD:PUBLISH
X-PUBLISHED-TTL:P3D
REFRESH-INTERVAL:P3D
CALSCALE:GREGORIAN
BEGIN:VEVENT
DTSTART:20050827T234500Z
DTEND:20050827T050000Z
X-MICROSOFT-CDO-ALLDAYEVENT:FALSE
SUMMARY:Starlight Symphony
DESCRIPTION:Free admission. Rain date is Aug. 28. Bring a blanket and relax as the orchestra performs popular and light classical favorites including 1812 Overture.
X-ALT-DESC;FMTTYPE=text/html:Free admission. Rain date is Aug. 28. Bring a blanket and relax as the orchestra performs popular and light classical favorites including 1812 Overture.
LOCATION:First Presbyterian Church N. Highland Jackson\, TN
UID:e.2827.1187
SEQUENCE:3
DTSTAMP:20260421T165724Z
URL:https://member.jacksontn.com/events/details/starlight-symphony-08-27-2005-1187
END:VEVENT

END:VCALENDAR
