BEGIN:VCALENDAR
VERSION:2.0
PRODID:-//ChamberMaster//Event Calendar 2.0//EN
METHOD:PUBLISH
X-PUBLISHED-TTL:P3D
REFRESH-INTERVAL:P3D
CALSCALE:GREGORIAN
BEGIN:VEVENT
DTSTART:20050517T170000Z
DTEND:20050517T230000Z
X-MICROSOFT-CDO-ALLDAYEVENT:FALSE
SUMMARY:Spring Career Fair
DESCRIPTION:The area's top businesses and industries come together to discuss employment opportunities with career fair attendees. Free and open to the public. No appointments necessary.
X-ALT-DESC;FMTTYPE=text/html:The area's top businesses and industries come together to discuss employment opportunities with career fair attendees. Free and open to the public. No appointments necessary.
LOCATION:Carl Perkins Civic Center South Highland Jackson\, TN
UID:e.2827.1074
SEQUENCE:3
DTSTAMP:20260421T182211Z
URL:https://member.jacksontn.com/events/details/spring-career-fair-05-17-2005-1074
END:VEVENT

END:VCALENDAR
