BEGIN:VCALENDAR
VERSION:2.0
PRODID:-//ChamberMaster//Event Calendar 2.0//EN
METHOD:PUBLISH
X-PUBLISHED-TTL:P3D
REFRESH-INTERVAL:P3D
CALSCALE:GREGORIAN
BEGIN:VEVENT
DTSTART:20050429T230000Z
DTEND:20050430T030000Z
X-MICROSOFT-CDO-ALLDAYEVENT:FALSE
SUMMARY:Spirit of American Musical Gala & Canteen Dance
DESCRIPTION:Jackson Area Chapter of the American Red Cross's 4th Annual "Spirit of America" Musical Gala and Canteen Dance featuring Fanfare and Kitty Moller from St. Louis. Event will benefit the local military and disaster emergency services at the Jackson Area Chapter of the American Red Cross. Tickets are $60 per person or $480 for a table of eight. RSVP by April 15.
X-ALT-DESC;FMTTYPE=text/html:Jackson Area Chapter of the American Red Cross's 4th Annual "Spirit of America" Musical Gala and Canteen Dance featuring Fanfare and Kitty Moller from St. Louis. Event will benefit the local military and disaster emergency services at the Jackson Area Chapter of the American Red Cross. Tickets are $60 per person or $480 for a table of eight. RSVP by April 15.
LOCATION:VFW Post 1848 3803 Hwy 45 North Jackson\, TN
UID:e.2827.915
SEQUENCE:3
DTSTAMP:20260421T200449Z
URL:https://member.jacksontn.com/events/details/spirit-of-american-musical-gala-canteen-dance-04-29-2005-915
END:VEVENT

END:VCALENDAR
