BEGIN:VCALENDAR
VERSION:2.0
PRODID:-//ChamberMaster//Event Calendar 2.0//EN
METHOD:PUBLISH
X-PUBLISHED-TTL:P3D
REFRESH-INTERVAL:P3D
CALSCALE:GREGORIAN
BEGIN:VEVENT
DTSTART:20050429T230000Z
DTEND:20050429T050000Z
X-MICROSOFT-CDO-ALLDAYEVENT:FALSE
SUMMARY:Spirit of America Musical Gala & Canteen Dance
DESCRIPTION:A reception and auction will begin at 6 pm\, dinner will be served at 7 pm and the dance will follow at 8 pm. Tickets are $60 per person of $480 for a reserved table of eight. Reservations must be made by April 22 and all proceeds benefit the Jackson Area Chapter of the American Red Cross' local military and disaster emergency services.
X-ALT-DESC;FMTTYPE=text/html:A reception and auction will begin at 6 pm\, dinner will be served at 7 pm and the dance will follow at 8 pm. Tickets are $60 per person of $480 for a reserved table of eight. Reservations must be made by April 22 and all proceeds benefit the Jackson Area Chapter of the American Red Cross' local military and disaster emergency services.
LOCATION:VFW Post 1848 North Highland Ave Jackson\, TN
UID:e.2827.996
SEQUENCE:3
DTSTAMP:20260421T213953Z
URL:https://member.jacksontn.com/events/details/spirit-of-america-musical-gala-canteen-dance-04-29-2005-996
END:VEVENT

END:VCALENDAR
