BEGIN:VCALENDAR
VERSION:2.0
PRODID:-//ChamberMaster//Event Calendar 2.0//EN
METHOD:PUBLISH
X-PUBLISHED-TTL:P3D
REFRESH-INTERVAL:P3D
CALSCALE:GREGORIAN
BEGIN:VEVENT
DTSTART:20191114T134500Z
DTEND:20191114T150000Z
X-MICROSOFT-CDO-ALLDAYEVENT:FALSE
SUMMARY:Spark
DESCRIPTION:p.p1 {margin: 0.0px 0.0px 0.0px 0.0px\; font: 12.0px 'Minion Pro'}\n\nBuilding a Dynamic Team Culture\n\n\n\nAre you hiring a team to move your company forward or straight to its grave? Learn how to hire effectively and legally to build a high capacity team. Speaker will be Ben Ferguson\, president of Personnel Placements\, LLC\, entrepreneur and co-founder of theCO. \n\n\n\n\n\nIgnite your business at Spark! Start your day making connections at this event brought to you by Jackson Chamber & theCO. Spark is part networking\, part learning with a different speaker each month to help grow your business.
X-ALT-DESC;FMTTYPE=text/html:<div style="caret-color: rgb(0\, 0\, 0)\; color: rgb(0\, 0\, 0)\; font-family: Arial\, sans-serif\; font-size: 14px\; text-size-adjust: auto\;">\n<div class="p1">\n<style type="text/css">p.p1 {margin: 0.0px 0.0px 0.0px 0.0px\; font: 12.0px 'Minion Pro'}\n</style>\n<p class="p1"><span style="font-size:22px\;"><span style="font-family:arial\;"><span style="color:#003056\;"><strong>Building a Dynamic Team Culture</strong></span></span></span><br>\n<br>\n<span style="font-size:18px\;"><span style="font-family:arial\;"><span style="caret-color: rgb(0\, 0\, 0)\; color: rgb(0\, 0\, 0)\; text-size-adjust: auto\;">Are you hiring a team to move your company forward or straight to its grave? Learn how to hire effectively and legally to build a high capacity team. Speaker will be Ben Ferguson\, president of Personnel Placements\, LLC\, entrepreneur&nbsp\;and co-founder of theCO.&nbsp\;</span><br>\n<br>\n<br>\nIgnite your business at Spark! Start your day making connections at this event brought to you by Jackson Chamber &amp\; theCO. Spark is part networking\, part learning with a different speaker each month to help grow your business.</span></span></p>\n\n<p class="p1"><br>\n&nbsp\;</p>\n</div>\n</div>\n
LOCATION:theCO 541 Wiley Parker Rd. Jackson\, TN 38305
UID:e.2827.6801
SEQUENCE:3
DTSTAMP:20260421T183424Z
URL:https://member.jacksontn.com/events/details/spark-6801
END:VEVENT

END:VCALENDAR
