BEGIN:VCALENDAR
VERSION:2.0
PRODID:-//ChamberMaster//Event Calendar 2.0//EN
METHOD:PUBLISH
X-PUBLISHED-TTL:P3D
REFRESH-INTERVAL:P3D
CALSCALE:GREGORIAN
BEGIN:VEVENT
DTSTART:20190808T124500Z
DTEND:20190808T140000Z
X-MICROSOFT-CDO-ALLDAYEVENT:FALSE
SUMMARY:Spark
DESCRIPTION:p.p1 {margin: 0.0px 0.0px 0.0px 0.0px\; font: 12.0px 'Minion Pro'}\n\n Human Resources Crash Course  \n\n\n\nJoin us for this human resources panel. Find out things to always do\, things never to do and quick tips!\n\n\n\nPanelists include:\n\nSusan Morris\, Express Employment Professionals\n\nAmy West\, Jackson State Community College\n\nMichelle Willis\, Gerdau
X-ALT-DESC;FMTTYPE=text/html:<div style="caret-color: rgb(0\, 0\, 0)\; color: rgb(0\, 0\, 0)\; font-family: Arial\, sans-serif\; font-size: 14px\; text-size-adjust: auto\;">\n<div class="p1">\n<style type="text/css">p.p1 {margin: 0.0px 0.0px 0.0px 0.0px\; font: 12.0px 'Minion Pro'}\n</style>\n<p class="p1"><span style="font-size:14px\;"><span style="font-family:arial\;"><span style="color:#003056\;"><span style="font-size:18px\;"><strong>&nbsp\;Human Resources Crash Course</strong>&nbsp\;&nbsp\;</span></span><br />\n<br />\n<span style="font-size:16px\;">Join us for this human resources panel. Find out things to always do\, things never to do and quick tips!</span></span></span><br />\n<br />\n<span style="font-size:16px\;"><span style="background:white\;"><span style="color:black\;"><span style="font-family:arial\,sans-serif\;">Panelists include:</span></span></span></span><br />\n<span style="font-size:16px\;"><span style="background:white\;"><span style="color:black\;"><span style="font-family:arial\,sans-serif\;"><span style="text-align:-webkit-center\;">Susan Morris\,&nbsp\;</span><a alt="https://www.expresspros.com/" href="http://r20.rs6.net/tn.jsp?t=4fnwee4ab.0.0.l7zj88bab.0&amp\;id=preview&amp\;r=3&amp\;p=https%3A%2F%2Fwww.expresspros.com%2F" linktype="1" shape="rect" target="_blank" track="on"><strong><span style="color:#799900\;">Express Employment Professionals</span></strong></a></span></span></span><br />\n<span style="background:white\;"><span style="color:black\;"><span style="font-family:arial\,sans-serif\;">Amy West\, <a alt="https://www.jscc.edu/" href="http://r20.rs6.net/tn.jsp?t=4fnwee4ab.0.0.l7zj88bab.0&amp\;id=preview&amp\;r=3&amp\;p=https%3A%2F%2Fwww.jscc.edu%2F" linktype="1" shape="rect" target="_blank" track="on"><strong><span style="color:#799900\;">Jackson State Community College</span></strong></a></span></span></span><br />\n<span style="background:white\;"><span style="color:black\;"><span style="font-family:arial\,sans-serif\;"><span style="text-align:-webkit-center\;">Michelle Willis\,&nbsp\;</span><span style="font-family:arial\;"><a alt="http://www.gerdau.com/longsteel" href="http://r20.rs6.net/tn.jsp?t=4fnwee4ab.0.0.l7zj88bab.0&amp\;id=preview&amp\;r=3&amp\;p=http%3A%2F%2Fwww.gerdau.com%2Flongsteel" linktype="1" shape="rect" target="_blank" track="on"><strong><span style="color:#799900\;">Gerdau</span></strong></a></span></span></span></span></span><br />\n&nbsp\;</p>\n</div>\n\n<div _mce_style="color: #000000\; text-align: left\; font-size: 10pt\;" align="left" style="font-family: Arial\, Helvetica\, sans-serif\; color: rgb(0\, 0\, 0)\; font-size: 10pt\;">\n<div>&nbsp\;</div>\n</div>\n\n<div _mce_style="color: #000000\; text-align: left\; font-size: 10pt\;" align="left" style="font-family: Arial\, Helvetica\, sans-serif\; color: rgb(0\, 0\, 0)\; font-size: 10pt\;">&nbsp\;</div>\n\n<div _mce_style="color: #000000\; text-align: left\; font-size: 10pt\;" align="left" style="font-family: Arial\, Helvetica\, sans-serif\; color: rgb(0\, 0\, 0)\; font-size: 10pt\;">&nbsp\;</div>\n</div>\n
LOCATION:theCO 541 Wiley Parker Rd. Jackson\, TN 38305
UID:e.2827.6784
SEQUENCE:3
DTSTAMP:20260422T072713Z
URL:https://member.jacksontn.com/events/details/spark-6784
END:VEVENT

END:VCALENDAR
