BEGIN:VCALENDAR
VERSION:2.0
PRODID:-//ChamberMaster//Event Calendar 2.0//EN
METHOD:PUBLISH
X-PUBLISHED-TTL:P3D
REFRESH-INTERVAL:P3D
CALSCALE:GREGORIAN
BEGIN:VEVENT
DTSTART:20190613T124500Z
DTEND:20190613T140000Z
X-MICROSOFT-CDO-ALLDAYEVENT:FALSE
SUMMARY:Spark
DESCRIPTION:Bringing Work Home: Integrating Business and Ethics\n\n \n\nBancorpSouth will present financial services for small businesses. \n\n\n \n\nGreg Jordan\, professor of Business Law and Ethics\, Union University\, will give tips for ethical business behavior and how it can bring significant benefits to your business. \n\n\nSponsored by BancorpSouth
X-ALT-DESC;FMTTYPE=text/html:<div style="caret-color: rgb(0\, 0\, 0)\; color: rgb(0\, 0\, 0)\; font-family: Arial\, sans-serif\; font-size: 14px\; text-size-adjust: auto\;"><span style="caret-color: rgb(0\, 0\, 0)\; color: rgb(0\, 0\, 0)\; font-family: Calibri\, sans-serif\; font-size: 14.6667px\; text-size-adjust: auto\;"><strong><span style="font-size:14px\;"><span style="font-family:arial\;">Bringing Work Home: Integrating Business and Ethics</span></span></strong></span><br />\n&nbsp\;\n<div _mce_style="color: #000000\; text-align: left\; font-size: 10pt\;" align="left" style="font-family: Arial\, Helvetica\, sans-serif\; color: rgb(0\, 0\, 0)\; font-size: 10pt\;">\n<div><span _mce_style="font-family: arial\; white-space: pre-wrap\; caret-color: #000000\; background-color: #ffffff\;" style="font-family: arial\; white-space: pre-wrap\; caret-color: rgb(0\, 0\, 0)\;"><a _mce_href="https://www.bancorpsouth.com/" _mce_shape="rect" _mce_style="font-weight: bold\; color: #799900\; text-decoration: underline\;" href="https://www.bancorpsouth.com/" linktype="1" shape="rect" style="font-weight: bold\; color: rgb(121\, 153\, 0) !important\;" target="_blank" track="on">BancorpSouth</a> will<span _mce_style="font-family: arial\; white-space: pre-wrap\; caret-color: #000000\; background-color: #ffffff\;"> present financial services for small businesses. </span></span></div>\n</div>\n\n<div _mce_style="color: #000000\; text-align: left\; font-size: 10pt\;" align="left" style="font-family: Arial\, Helvetica\, sans-serif\; color: rgb(0\, 0\, 0)\; font-size: 10pt\;">&nbsp\;</div>\n\n<div _mce_style="color: #000000\; text-align: left\; font-size: 10pt\;" align="left" style="font-family: Arial\, Helvetica\, sans-serif\; color: rgb(0\, 0\, 0)\; font-size: 10pt\;"><span _mce_style="background-color: #ffffff\; font-family: arial\; white-space: pre-wrap\; caret-color: #000000\;" style="font-family: arial\; white-space: pre-wrap\; caret-color: rgb(0\, 0\, 0)\;"><a _mce_href="http://uu.edu/employee/profile.cfm?emp=gjordan" _mce_shape="rect" _mce_style="font-weight: bold\; color: #799900\; text-decoration: underline\;" href="http://uu.edu/employee/profile.cfm?emp=gjordan" linktype="1" shape="rect" style="font-weight: bold\; color: rgb(121\, 153\, 0) !important\;" target="_blank" track="on">Greg Jordan</a>\, professor of Business Law and Ethics\, <a _mce_href="http://uu.edu/" _mce_shape="rect" _mce_style="font-weight: bold\; color: #799900\; text-decoration: underline\;" href="http://uu.edu/" linktype="1" shape="rect" style="font-weight: bold\; color: rgb(121\, 153\, 0) !important\;" target="_blank" track="on">Union University</a>\, will give</span><span _mce_style="font-family: arial\; background-color: #ffffff\;" style="font-family: arial\;">&nbsp\;tips for ethical business behavior and how it can&nbsp\;</span><span _mce_style="font-family: arial\; background-color: #ffffff\;" style="font-family: arial\;">bring&nbsp\;</span><span _mce_style="background-color: #ffffff\; font-family: arial\; white-space: pre-wrap\; caret-color: #000000\;" style="font-family: arial\; white-space: pre-wrap\; caret-color: rgb(0\, 0\, 0)\;">significant </span><span _mce_style="background-color: #ffffff\; font-family: arial\; white-space: pre-wrap\; caret-color: #000000\;" style="font-family: arial\; white-space: pre-wrap\; caret-color: rgb(0\, 0\, 0)\;">benefits to your business. </span></div>\n<br style="color: rgb(29\, 33\, 41)\; font-family: Helvetica\, Arial\, sans-serif\; font-size: 14px\; white-space: pre-wrap\;" />\n<span style="font-size:14px\;"><span style="font-family:arial\;"><span style="color: rgb(29\, 33\, 41)\; white-space: pre-wrap\;">Sponsored by BancorpSouth</span></span></span></div>\n
LOCATION:Jackson Chamber 197 Auditorium Street Jackson\, TN
UID:e.2827.6774
SEQUENCE:3
DTSTAMP:20260422T113504Z
URL:https://member.jacksontn.com/events/details/spark-6774
END:VEVENT

END:VCALENDAR
