BEGIN:VCALENDAR
VERSION:2.0
PRODID:-//ChamberMaster//Event Calendar 2.0//EN
METHOD:PUBLISH
X-PUBLISHED-TTL:P3D
REFRESH-INTERVAL:P3D
CALSCALE:GREGORIAN
BEGIN:VEVENT
DTSTART:20190417T124500Z
DTEND:20190417T140000Z
X-MICROSOFT-CDO-ALLDAYEVENT:FALSE
SUMMARY:Spark
DESCRIPTION:Ignite your business at Spark! Start your day making connections at this new event brought to you by Jackson Chamber & theCO. Spark is part networking\, part learning with a different speaker each month to help grow your business.\n\n\n\nAt this month's Spark\, Dave Delaney will present\, Reach Customers Online with Google - Learn how customers find your business online and how to promote your online presence using search engine optimization (SEO) and online advertising. We'll also introduce tools that will help you run your business online\, including Google Analytics and Trends.
X-ALT-DESC;FMTTYPE=text/html:<div style="caret-color: rgb(0\, 0\, 0)\; color: rgb(0\, 0\, 0)\; font-family: Arial\, sans-serif\; font-size: 14px\; text-size-adjust: auto\;"><span style="font-family:arial\;"><span style="font-size:14px\;"><span style="white-space: pre-wrap\;">Ignite your business at Spark! Start your day making connections at this new event brought to you by Jackson Chamber &amp\; theCO. Spark is part networking\, part learning with a different speaker each month to help grow your business.</span></span><br />\n<br />\n<span style="font-size:11.0pt\;">At this month&#39\;s Spark\, Dave Delaney will present\, Reach Customers Online with Google - Learn how customers find your business online and how to promote your online presence using search engine optimization (SEO) and online advertising. We&rsquo\;ll also introduce tools that will help you run your business online\, including Google Analytics and Trends.</span></span></div>\n\n<div>&nbsp\;</div>\n
LOCATION:theCO 541 Wiley Parker Rd. Jackson\, TN
UID:e.2827.6762
SEQUENCE:3
DTSTAMP:20260422T173607Z
URL:https://member.jacksontn.com/events/details/spark-6762
END:VEVENT

END:VCALENDAR
