BEGIN:VCALENDAR
VERSION:2.0
PRODID:-//ChamberMaster//Event Calendar 2.0//EN
METHOD:PUBLISH
X-PUBLISHED-TTL:P3D
REFRESH-INTERVAL:P3D
CALSCALE:GREGORIAN
BEGIN:VEVENT
DTSTART:20180201T210000Z
DTEND:20180201T220000Z
X-MICROSOFT-CDO-ALLDAYEVENT:FALSE
SUMMARY:Southwest Tennessee Reconnect Community Launch
DESCRIPTION:Learn how Southwest Tennessee Reconnect can have a collective impact on the local community's workforce.  Join us to learn how combining resources\, expertise and outreach\, will increase educational attainment and improve the skills gap for our region.\n\n\n\nWe are excited to announce that Governor Haslam will be attending this event!
X-ALT-DESC;FMTTYPE=text/html:<span style="color: rgb(0\, 0\, 0)\; font-family: Calibri\, sans-serif\; font-size: 14.666666984558105px\;">Learn how Southwest Tennessee Reconnect can have a collective impact on the local community&rsquo\;s workforce.&nbsp\; Join us to learn how combining resources\, expertise and outreach\, will increase educational attainment and improve the skills gap for our region.</span><br />\n<br />\nWe are excited to announce that Governor Haslam will be attending this event!
LOCATION:Jackson Chamber 197 Auditorium Street Jackson\, TN 38301
UID:e.2827.5659
SEQUENCE:3
DTSTAMP:20260423T185603Z
URL:https://member.jacksontn.com/events/details/southwest-tennessee-reconnect-community-launch-5659
END:VEVENT

END:VCALENDAR
