BEGIN:VCALENDAR
VERSION:2.0
PRODID:-//ChamberMaster//Event Calendar 2.0//EN
METHOD:PUBLISH
X-PUBLISHED-TTL:P3D
REFRESH-INTERVAL:P3D
CALSCALE:GREGORIAN
BEGIN:VEVENT
DTSTART:20051027T230000Z
DTEND:20051027T050000Z
X-MICROSOFT-CDO-ALLDAYEVENT:FALSE
SUMMARY:Songwriter's Depot
DESCRIPTION:$5 admission. This month's show features songwriters Byron Hill\, Kerry Kurt Phillips and Billy Yates. The writers have penned songs for George Strait\, George Jones\, Tim McGraw\, Alabama\, Keith Whitley\, Reba McIntyre and many more.
X-ALT-DESC;FMTTYPE=text/html:$5 admission. This month's show features songwriters Byron Hill\, Kerry Kurt Phillips and Billy Yates. The writers have penned songs for George Strait\, George Jones\, Tim McGraw\, Alabama\, Keith Whitley\, Reba McIntyre and many more.
LOCATION:Old Country Store - Casey Jones Village Highway 45 Bypass at I-40 Jackson\, TN 38301
UID:e.2827.1316
SEQUENCE:3
DTSTAMP:20260421T155704Z
URL:https://member.jacksontn.com/events/details/songwriter-s-depot-10-27-2005-1316
END:VEVENT

END:VCALENDAR
