BEGIN:VCALENDAR
VERSION:2.0
PRODID:-//ChamberMaster//Event Calendar 2.0//EN
METHOD:PUBLISH
X-PUBLISHED-TTL:P3D
REFRESH-INTERVAL:P3D
CALSCALE:GREGORIAN
BEGIN:VEVENT
DTSTART:20050428T230000Z
DTEND:20050429T020000Z
X-MICROSOFT-CDO-ALLDAYEVENT:FALSE
SUMMARY:Songwriter's Depot
DESCRIPTION:Singer/songwriters come from Nashville to share the story behind some of the most famous songs in country music today. This acoustic show begins at 7 pm and is held on the Back Porch stage in the Barnside Room at Old Country Store Restaurant. Tickets are $5.00 and do not include dinner.
X-ALT-DESC;FMTTYPE=text/html:Singer/songwriters come from Nashville to share the story behind some of the most famous songs in country music today. This acoustic show begins at 7 pm and is held on the Back Porch stage in the Barnside Room at Old Country Store Restaurant. Tickets are $5.00 and do not include dinner.
LOCATION:Casey Jones Village 56 Casey Jones Lane Jackson\, TN
UID:e.2827.1013
SEQUENCE:3
DTSTAMP:20260421T200314Z
URL:https://member.jacksontn.com/events/details/songwriter-s-depot-04-28-2005-1013
END:VEVENT

END:VCALENDAR
