BEGIN:VCALENDAR
VERSION:2.0
PRODID:-//ChamberMaster//Event Calendar 2.0//EN
METHOD:PUBLISH
X-PUBLISHED-TTL:P3D
REFRESH-INTERVAL:P3D
CALSCALE:GREGORIAN
BEGIN:VEVENT
DTSTART:20050821T180000Z
DTEND:20050821T230000Z
X-MICROSOFT-CDO-ALLDAYEVENT:FALSE
SUMMARY:Soccer Referees Re-Certification Clinic
DESCRIPTION:This clinic will certify you to referee any TSSA sanctioned soccer game. Fee $55 ($25 refund once you referee 10 games for JAWS). Fee must be paid in advance.
X-ALT-DESC;FMTTYPE=text/html:This clinic will certify you to referee any TSSA sanctioned soccer game. Fee $55 ($25 refund once you referee 10 games for JAWS). Fee must be paid in advance.
LOCATION:Westwood Recreation Center
UID:e.2827.1143
SEQUENCE:3
DTSTAMP:20260421T184902Z
URL:https://member.jacksontn.com/events/details/soccer-referees-re-certification-clinic-08-21-2005-1143
END:VEVENT

END:VCALENDAR
