BEGIN:VCALENDAR
VERSION:2.0
PRODID:-//ChamberMaster//Event Calendar 2.0//EN
METHOD:PUBLISH
X-PUBLISHED-TTL:P3D
REFRESH-INTERVAL:P3D
CALSCALE:GREGORIAN
BEGIN:VEVENT
DTSTART:20050825T230000Z
DTEND:20050826T020000Z
X-MICROSOFT-CDO-ALLDAYEVENT:FALSE
SUMMARY:Soccer Referees Clinic
DESCRIPTION:This is the basic JAWS referees\, in addition to the TSSAA certification  clinic. Specific age rules and referees expectations will be discussed. Pizza and drinks will be provided. Free.
X-ALT-DESC;FMTTYPE=text/html:This is the basic JAWS referees\, in addition to the TSSAA certification  clinic. Specific age rules and referees expectations will be discussed. Pizza and drinks will be provided. Free.
LOCATION:Westwood Recreation Center
UID:e.2827.1142
SEQUENCE:3
DTSTAMP:20260421T202021Z
URL:https://member.jacksontn.com/events/details/soccer-referees-clinic-08-25-2005-1142
END:VEVENT

END:VCALENDAR
