BEGIN:VCALENDAR
VERSION:2.0
PRODID:-//ChamberMaster//Event Calendar 2.0//EN
METHOD:PUBLISH
X-PUBLISHED-TTL:P3D
REFRESH-INTERVAL:P3D
CALSCALE:GREGORIAN
BEGIN:VEVENT
DTSTART:20050903T180000Z
DTEND:20050903T220000Z
X-MICROSOFT-CDO-ALLDAYEVENT:FALSE
SUMMARY:ShoutFest 05
DESCRIPTION:A one day national Christian festival on tour. The lineup of major Christian artists includes ZOEgirl\, JUMP5\, Skillet\, KJ-52\, Grits\, Disciple\, Krystal Meyers and more. Hosted by Logan Sekulow of the talk/variety show The Logan Show. ShoutFest also brings extreme games\, including the Quad Power Bungee Jump\, the Titanic Super Slide and Gladiator Joust.
X-ALT-DESC;FMTTYPE=text/html:A one day national Christian festival on tour. The lineup of major Christian artists includes ZOEgirl\, JUMP5\, Skillet\, KJ-52\, Grits\, Disciple\, Krystal Meyers and more. Hosted by Logan Sekulow of the talk/variety show The Logan Show. ShoutFest also brings extreme games\, including the Quad Power Bungee Jump\, the Titanic Super Slide and Gladiator Joust.
LOCATION:Casey Jones Village Interstate 40\, exit 80A at Highway 45 Bypass Jackson\, TN
UID:e.2827.1139
SEQUENCE:3
DTSTAMP:20260421T184625Z
URL:https://member.jacksontn.com/events/details/shoutfest-05-09-03-2005-1139
END:VEVENT

END:VCALENDAR
