BEGIN:VCALENDAR
VERSION:2.0
PRODID:-//ChamberMaster//Event Calendar 2.0//EN
METHOD:PUBLISH
X-PUBLISHED-TTL:P3D
REFRESH-INTERVAL:P3D
CALSCALE:GREGORIAN
BEGIN:VEVENT
DTSTART:20180221T210000Z
DTEND:20180222T000000Z
X-MICROSOFT-CDO-ALLDAYEVENT:FALSE
SUMMARY:Retirement Party for Shirley Jones
DESCRIPTION:Retirement party for Shirley Jones.
X-ALT-DESC;FMTTYPE=text/html:Retirement party for Shirley Jones.
LOCATION:Jackson Chamber 197 Auditorium St. Jackson\, TN 38301
UID:e.2827.5662
SEQUENCE:3
DTSTAMP:20260422T062536Z
URL:https://member.jacksontn.com/events/details/shirley-s-retirement-party-5662
END:VEVENT

END:VCALENDAR
